BEGIN:VCALENDAR
VERSION:2.0
PRODID:-//Neki Bazaar - ECPv6.15.12.2//NONSGML v1.0//EN
CALSCALE:GREGORIAN
METHOD:PUBLISH
X-WR-CALNAME:Neki Bazaar
X-ORIGINAL-URL:https://nekibazaar.org
X-WR-CALDESC:Events for Neki Bazaar
REFRESH-INTERVAL;VALUE=DURATION:PT1H
X-Robots-Tag:noindex
X-PUBLISHED-TTL:PT1H
BEGIN:VTIMEZONE
TZID:UTC
BEGIN:STANDARD
TZOFFSETFROM:+0000
TZOFFSETTO:+0000
TZNAME:UTC
DTSTART:20190101T000000
END:STANDARD
END:VTIMEZONE
BEGIN:VEVENT
DTSTART;VALUE=DATE:20210412
DTEND;VALUE=DATE:20210413
DTSTAMP:20260421T090946
CREATED:20210412T102207Z
LAST-MODIFIED:20230725T160933Z
UID:1910-1618185600-1618271999@nekibazaar.org
SUMMARY:Ration Distribution Drive:22
DESCRIPTION:
URL:https://nekibazaar.org/event/ration-distribution-drive22/
CATEGORIES:covid-19 pandemic,Food Drive
ATTACH;FMTTYPE=image/png:https://nekibazaar.org/wp-content/uploads/2021/11/Covid-19-Food-Distribution.png
ORGANIZER;CN="Pakistan Chapter - M. Talal":MAILTO:contact@nekibazaar.org
END:VEVENT
BEGIN:VEVENT
DTSTART;VALUE=DATE:20200119
DTEND;VALUE=DATE:20200120
DTSTAMP:20260421T090946
CREATED:20200119T082532Z
LAST-MODIFIED:20230725T151830Z
UID:1878-1579392000-1579478399@nekibazaar.org
SUMMARY:Covid Food distribution -17Drive
DESCRIPTION:[vc_row][vc_column][vc_media_grid grid_id=”vc_gid:1637309617521-bc6aa7b4-b905-9″ include=”1879\,1880\,1883″][/vc_column][/vc_row]
URL:https://nekibazaar.org/event/covid-food-distribution-17drive/
LOCATION:DEHRADUN\, JHAJRA\, India
CATEGORIES:covid-19 pandemic,Food Drive
END:VEVENT
END:VCALENDAR