BEGIN:VCALENDAR
VERSION:2.0
PRODID:-//Neki Bazaar - ECPv6.15.12.2//NONSGML v1.0//EN
CALSCALE:GREGORIAN
METHOD:PUBLISH
X-WR-CALNAME:Neki Bazaar
X-ORIGINAL-URL:https://nekibazaar.org
X-WR-CALDESC:Events for Neki Bazaar
REFRESH-INTERVAL;VALUE=DURATION:PT1H
X-Robots-Tag:noindex
X-PUBLISHED-TTL:PT1H
BEGIN:VTIMEZONE
TZID:UTC
BEGIN:STANDARD
TZOFFSETFROM:+0000
TZOFFSETTO:+0000
TZNAME:UTC
DTSTART:20200101T000000
END:STANDARD
END:VTIMEZONE
BEGIN:VEVENT
DTSTART;TZID=UTC:20230310T080000
DTEND;TZID=UTC:20230310T170000
DTSTAMP:20260421T181906
CREATED:20230204T131424Z
LAST-MODIFIED:20230324T111922Z
UID:2335-1678435200-1678467600@nekibazaar.org
SUMMARY:Food Distribution drive 51
DESCRIPTION:[vc_row][vc_column][vc_gallery type=”image_grid” images=”2366″][/vc_column][/vc_row]
URL:https://nekibazaar.org/event/food-distribution-drive-51/
CATEGORIES:Food Drive
ATTACH;FMTTYPE=image/png:https://nekibazaar.org/wp-content/uploads/2022/09/Lets-give-a-helping-hand-to-the-Needy-people-e1680258268106.png
END:VEVENT
BEGIN:VEVENT
DTSTART;TZID=UTC:20230303T080000
DTEND;TZID=UTC:20230303T170000
DTSTAMP:20260421T181906
CREATED:20230204T131342Z
LAST-MODIFIED:20230204T131342Z
UID:2333-1677830400-1677862800@nekibazaar.org
SUMMARY:Food Distribution drive 50
DESCRIPTION:
URL:https://nekibazaar.org/event/food-distribution-drive-50/
CATEGORIES:Food Drive
ATTACH;FMTTYPE=image/png:https://nekibazaar.org/wp-content/uploads/2022/09/Lets-give-a-helping-hand-to-the-Needy-people-e1680258268106.png
END:VEVENT
BEGIN:VEVENT
DTSTART;TZID=UTC:20230224T080000
DTEND;TZID=UTC:20230224T170000
DTSTAMP:20260421T181906
CREATED:20230204T131250Z
LAST-MODIFIED:20230204T131250Z
UID:2331-1677225600-1677258000@nekibazaar.org
SUMMARY:Food Distribution drive 49
DESCRIPTION:
URL:https://nekibazaar.org/event/food-distribution-drive-49/
CATEGORIES:Food Drive
ATTACH;FMTTYPE=image/png:https://nekibazaar.org/wp-content/uploads/2022/09/Lets-give-a-helping-hand-to-the-Needy-people-e1680258268106.png
END:VEVENT
BEGIN:VEVENT
DTSTART;TZID=UTC:20230217T080000
DTEND;TZID=UTC:20230217T170000
DTSTAMP:20260421T181906
CREATED:20230204T131211Z
LAST-MODIFIED:20230204T131211Z
UID:2329-1676620800-1676653200@nekibazaar.org
SUMMARY:Food Distribution drive 48
DESCRIPTION:
URL:https://nekibazaar.org/event/food-distribution-drive-48/
CATEGORIES:Food Drive
ATTACH;FMTTYPE=image/png:https://nekibazaar.org/wp-content/uploads/2022/09/Lets-give-a-helping-hand-to-the-Needy-people-e1680258268106.png
END:VEVENT
BEGIN:VEVENT
DTSTART;TZID=UTC:20230210T080000
DTEND;TZID=UTC:20230210T170000
DTSTAMP:20260421T181906
CREATED:20230204T131136Z
LAST-MODIFIED:20230204T131136Z
UID:2327-1676016000-1676048400@nekibazaar.org
SUMMARY:Food Distribution drive 47
DESCRIPTION:
URL:https://nekibazaar.org/event/food-distribution-drive-47/
CATEGORIES:Food Drive
ATTACH;FMTTYPE=image/png:https://nekibazaar.org/wp-content/uploads/2022/09/Lets-give-a-helping-hand-to-the-Needy-people-e1680258268106.png
ORGANIZER;CN="Pakistan Chapter - M. Talal":MAILTO:contact@nekibazaar.org
END:VEVENT
BEGIN:VEVENT
DTSTART;TZID=UTC:20221230T080000
DTEND;TZID=UTC:20221230T170000
DTSTAMP:20260421T181906
CREATED:20221230T131051Z
LAST-MODIFIED:20230727T085447Z
UID:2325-1672387200-1672419600@nekibazaar.org
SUMMARY:Food Distribution drive 46
DESCRIPTION:[vc_row][vc_column][vc_media_grid grid_id=”vc_gid:1690447946737-e7011999-d743-8″ include=”2364\,2365\,2359″][/vc_column][/vc_row]
URL:https://nekibazaar.org/event/food-distribution-drive-46/
LOCATION:Islamabad\, Pakistan
CATEGORIES:Food Drive
END:VEVENT
BEGIN:VEVENT
DTSTART;TZID=UTC:20221223T080000
DTEND;TZID=UTC:20221223T170000
DTSTAMP:20260421T181906
CREATED:20221223T131009Z
LAST-MODIFIED:20230727T085441Z
UID:2323-1671782400-1671814800@nekibazaar.org
SUMMARY:Food Distribution drive 45
DESCRIPTION:[vc_row][vc_column][vc_media_grid grid_id=”vc_gid:1690448063782-4e7e8a9c-82e2-8″ include=”2556\,2557\,2558″][/vc_column][/vc_row]
URL:https://nekibazaar.org/event/food-distribution-drive-45/
LOCATION:Islamabad\, Pakistan
CATEGORIES:Food Drive
ORGANIZER;CN="Pakistan Chapter - M. Talal":MAILTO:contact@nekibazaar.org
END:VEVENT
BEGIN:VEVENT
DTSTART;TZID=UTC:20221216T080000
DTEND;TZID=UTC:20221216T170000
DTSTAMP:20260421T181906
CREATED:20221216T130928Z
LAST-MODIFIED:20230727T085552Z
UID:2321-1671177600-1671210000@nekibazaar.org
SUMMARY:Food Distribution drive 44
DESCRIPTION:[vc_row][vc_column][vc_media_grid grid_id=”vc_gid:1690448090246-a6ec7c7f-cf35-8″ include=”2359\,2366″][/vc_column][/vc_row]
URL:https://nekibazaar.org/event/food-distribution-drive-44/
LOCATION:Islamabad\, Pakistan
CATEGORIES:Food Drive
ORGANIZER;CN="Pakistan Chapter - M. Talal":MAILTO:contact@nekibazaar.org
END:VEVENT
BEGIN:VEVENT
DTSTART;TZID=UTC:20221209T080000
DTEND;TZID=UTC:20221209T170000
DTSTAMP:20260421T181906
CREATED:20221209T174652Z
LAST-MODIFIED:20230727T085555Z
UID:2297-1670572800-1670605200@nekibazaar.org
SUMMARY:Food Distribution drive 43
DESCRIPTION:[vc_row][vc_column][vc_media_grid grid_id=”vc_gid:1690448124530-37d4b760-e365-8″ include=”2566″][/vc_column][/vc_row]
URL:https://nekibazaar.org/event/food-distribution-drive-43/
CATEGORIES:Food Drive
ORGANIZER;CN="Pakistan Chapter - M. Talal":MAILTO:contact@nekibazaar.org
END:VEVENT
BEGIN:VEVENT
DTSTART;TZID=UTC:20221202T080000
DTEND;TZID=UTC:20221202T170000
DTSTAMP:20260421T181906
CREATED:20221202T174336Z
LAST-MODIFIED:20230727T084331Z
UID:2294-1669968000-1670000400@nekibazaar.org
SUMMARY:Food Distribution drive 42
DESCRIPTION:
URL:https://nekibazaar.org/event/food-distribution-drive-42/
CATEGORIES:Food Drive
ORGANIZER;CN="Pakistan Chapter - M. Talal":MAILTO:contact@nekibazaar.org
END:VEVENT
BEGIN:VEVENT
DTSTART;TZID=UTC:20221125T080000
DTEND;TZID=UTC:20221125T170000
DTSTAMP:20260421T181906
CREATED:20221125T173825Z
LAST-MODIFIED:20230727T084234Z
UID:2291-1669363200-1669395600@nekibazaar.org
SUMMARY:Food Distribution drive 41
DESCRIPTION:
URL:https://nekibazaar.org/event/food-distribution-drive-41/
CATEGORIES:Food Drive
ATTACH;FMTTYPE=image/png:https://nekibazaar.org/wp-content/uploads/2022/09/Lets-give-a-helping-hand-to-the-Needy-people-e1680258268106.png
ORGANIZER;CN="Pakistan Chapter - M. Talal":MAILTO:contact@nekibazaar.org
END:VEVENT
BEGIN:VEVENT
DTSTART;TZID=UTC:20221118T080000
DTEND;TZID=UTC:20221118T170000
DTSTAMP:20260421T181906
CREATED:20221118T173713Z
LAST-MODIFIED:20230727T084201Z
UID:2289-1668758400-1668790800@nekibazaar.org
SUMMARY:Food Distribution drive 40
DESCRIPTION:
URL:https://nekibazaar.org/event/food-distribution-drive-40/
CATEGORIES:Food Drive
ATTACH;FMTTYPE=image/png:https://nekibazaar.org/wp-content/uploads/2022/09/Lets-give-a-helping-hand-to-the-Needy-people-e1680258268106.png
ORGANIZER;CN="Pakistan Chapter - M. Talal":MAILTO:contact@nekibazaar.org
END:VEVENT
BEGIN:VEVENT
DTSTART;TZID=UTC:20221111T080000
DTEND;TZID=UTC:20221111T170000
DTSTAMP:20260421T181906
CREATED:20221111T173403Z
LAST-MODIFIED:20230727T084129Z
UID:2286-1668153600-1668186000@nekibazaar.org
SUMMARY:Food Distribution drive 39
DESCRIPTION:
URL:https://nekibazaar.org/event/food-distribution-drive-39/
CATEGORIES:Food Drive
ATTACH;FMTTYPE=image/png:https://nekibazaar.org/wp-content/uploads/2022/09/Lets-give-a-helping-hand-to-the-Needy-people-e1680258268106.png
ORGANIZER;CN="Pakistan Chapter - M. Talal":MAILTO:contact@nekibazaar.org
END:VEVENT
BEGIN:VEVENT
DTSTART;TZID=UTC:20221104T080000
DTEND;TZID=UTC:20221104T170000
DTSTAMP:20260421T181906
CREATED:20221104T173245Z
LAST-MODIFIED:20230727T084054Z
UID:2284-1667548800-1667581200@nekibazaar.org
SUMMARY:Food Distribution drive 38
DESCRIPTION:
URL:https://nekibazaar.org/event/food-distribution-drive-38/
CATEGORIES:Food Drive
ATTACH;FMTTYPE=image/png:https://nekibazaar.org/wp-content/uploads/2022/09/Lets-give-a-helping-hand-to-the-Needy-people-e1680258268106.png
ORGANIZER;CN="Pakistan Chapter - M. Talal":MAILTO:contact@nekibazaar.org
END:VEVENT
BEGIN:VEVENT
DTSTART;TZID=UTC:20221028T080000
DTEND;TZID=UTC:20221028T170000
DTSTAMP:20260421T181906
CREATED:20221028T172349Z
LAST-MODIFIED:20230727T084023Z
UID:2282-1666944000-1666976400@nekibazaar.org
SUMMARY:Food Distribution drive 37
DESCRIPTION:
URL:https://nekibazaar.org/event/food-distribution-drive-37/
CATEGORIES:Food Drive
ATTACH;FMTTYPE=image/png:https://nekibazaar.org/wp-content/uploads/2022/09/Lets-give-a-helping-hand-to-the-Needy-people-e1680258268106.png
END:VEVENT
BEGIN:VEVENT
DTSTART;TZID=UTC:20221021T080000
DTEND;TZID=UTC:20221021T170000
DTSTAMP:20260421T181906
CREATED:20221021T170132Z
LAST-MODIFIED:20230727T083938Z
UID:2278-1666339200-1666371600@nekibazaar.org
SUMMARY:Food Distribution drive 36
DESCRIPTION:
URL:https://nekibazaar.org/event/food-distribution-drive-36/
CATEGORIES:Food Drive
ATTACH;FMTTYPE=image/png:https://nekibazaar.org/wp-content/uploads/2022/09/Lets-give-a-helping-hand-to-the-Needy-people-e1680258268106.png
END:VEVENT
BEGIN:VEVENT
DTSTART;VALUE=DATE:20221014
DTEND;VALUE=DATE:20221015
DTSTAMP:20260421T181906
CREATED:20221014T165455Z
LAST-MODIFIED:20230727T083842Z
UID:2275-1665705600-1665791999@nekibazaar.org
SUMMARY:Food Distribution drive 35
DESCRIPTION:
URL:https://nekibazaar.org/event/food-distribution-drive-35/
CATEGORIES:Food Drive
ATTACH;FMTTYPE=image/png:https://nekibazaar.org/wp-content/uploads/2022/09/Lets-give-a-helping-hand-to-the-Needy-people-e1680258268106.png
END:VEVENT
BEGIN:VEVENT
DTSTART;VALUE=DATE:20221007
DTEND;VALUE=DATE:20221008
DTSTAMP:20260421T181906
CREATED:20221007T165143Z
LAST-MODIFIED:20230727T083708Z
UID:2272-1665100800-1665187199@nekibazaar.org
SUMMARY:Food Distribution drive 34
DESCRIPTION:[vc_row][vc_column][vc_media_grid element_width=”6″ grid_id=”vc_gid:1680341878107-33040ebc-6b35-0″ include=”2366″][/vc_column][/vc_row]
URL:https://nekibazaar.org/event/food-distribution-drive-34/
CATEGORIES:Food Drive
ATTACH;FMTTYPE=image/png:https://nekibazaar.org/wp-content/uploads/2022/09/Lets-give-a-helping-hand-to-the-Needy-people-e1680258268106.png
ORGANIZER;CN="Pakistan Chapter - M. Talal":MAILTO:contact@nekibazaar.org
END:VEVENT
BEGIN:VEVENT
DTSTART;TZID=UTC:20220930T080000
DTEND;TZID=UTC:20220930T170000
DTSTAMP:20260421T181906
CREATED:20220930T153334Z
LAST-MODIFIED:20230727T083559Z
UID:2268-1664524800-1664557200@nekibazaar.org
SUMMARY:Food Distribution drive 33
DESCRIPTION:[vc_row][vc_column][vc_media_grid element_width=”6″ grid_id=”vc_gid:1680341306484-848fa9aa-71ce-1″ include=”2359\,2360″][/vc_column][/vc_row]
URL:https://nekibazaar.org/event/food-distribution-drive-33/
CATEGORIES:Food Drive
ATTACH;FMTTYPE=image/png:https://nekibazaar.org/wp-content/uploads/2022/09/Lets-give-a-helping-hand-to-the-Needy-people-e1680258268106.png
ORGANIZER;CN="Pakistan Chapter - M. Talal":MAILTO:contact@nekibazaar.org
END:VEVENT
BEGIN:VEVENT
DTSTART;TZID=UTC:20220923T080000
DTEND;TZID=UTC:20220923T170000
DTSTAMP:20260421T181906
CREATED:20220923T153159Z
LAST-MODIFIED:20230727T083531Z
UID:2266-1663920000-1663952400@nekibazaar.org
SUMMARY:Food Distribution drive 32
DESCRIPTION:
URL:https://nekibazaar.org/event/food-distribution-drive-32/
CATEGORIES:Food Drive
ATTACH;FMTTYPE=image/png:https://nekibazaar.org/wp-content/uploads/2022/09/Lets-give-a-helping-hand-to-the-Needy-people-e1680258268106.png
ORGANIZER;CN="Pakistan Chapter - M. Talal":MAILTO:contact@nekibazaar.org
END:VEVENT
BEGIN:VEVENT
DTSTART;TZID=UTC:20220916T080000
DTEND;TZID=UTC:20220916T170000
DTSTAMP:20260421T181906
CREATED:20220916T153050Z
LAST-MODIFIED:20230727T083441Z
UID:2264-1663315200-1663347600@nekibazaar.org
SUMMARY:Food Distribution drive 31
DESCRIPTION:[vc_row][vc_column][vc_media_grid grid_id=”vc_gid:1680340710053-174eb06b-5691-0″ include=”2366\,2365″][/vc_column][/vc_row]
URL:https://nekibazaar.org/event/food-distribution-drive-31/
CATEGORIES:Food Drive
ATTACH;FMTTYPE=image/png:https://nekibazaar.org/wp-content/uploads/2022/09/Lets-give-a-helping-hand-to-the-Needy-people-e1680258268106.png
ORGANIZER;CN="Pakistan Chapter - M. Talal":MAILTO:contact@nekibazaar.org
END:VEVENT
BEGIN:VEVENT
DTSTART;TZID=UTC:20220909T080000
DTEND;TZID=UTC:20220909T170000
DTSTAMP:20260421T181906
CREATED:20220909T152852Z
LAST-MODIFIED:20230727T083402Z
UID:2262-1662710400-1662742800@nekibazaar.org
SUMMARY:Food Distribution drive 30
DESCRIPTION:[vc_row][vc_column][vc_media_grid element_width=”6″ grid_id=”vc_gid:1680340591142-e12184a7-9fc9-10″ include=”2360\,2361″][/vc_column][/vc_row]
URL:https://nekibazaar.org/event/food-distribution-drive-30/
CATEGORIES:Food Drive
ATTACH;FMTTYPE=image/png:https://nekibazaar.org/wp-content/uploads/2022/09/Lets-give-a-helping-hand-to-the-Needy-people-e1680258268106.png
ORGANIZER;CN="Pakistan Chapter - M. Talal":MAILTO:contact@nekibazaar.org
END:VEVENT
BEGIN:VEVENT
DTSTART;TZID=UTC:20220902T080000
DTEND;TZID=UTC:20220902T170000
DTSTAMP:20260421T181906
CREATED:20220915T192050Z
LAST-MODIFIED:20220915T192050Z
UID:2245-1662105600-1662138000@nekibazaar.org
SUMMARY:Food Distribution drive 25
DESCRIPTION:
URL:https://nekibazaar.org/event/food-distribution-drive-25/
CATEGORIES:Food Drive
ATTACH;FMTTYPE=image/png:https://nekibazaar.org/wp-content/uploads/2022/09/Lets-give-a-helping-hand-to-the-Needy-people-e1680258268106.png
END:VEVENT
BEGIN:VEVENT
DTSTART;TZID=UTC:20220902T080000
DTEND;TZID=UTC:20220902T170000
DTSTAMP:20260421T181906
CREATED:20220902T152656Z
LAST-MODIFIED:20230727T083312Z
UID:2259-1662105600-1662138000@nekibazaar.org
SUMMARY:Food Distribution drive 29
DESCRIPTION:[vc_row][vc_column][vc_media_grid element_width=”6″ grid_id=”vc_gid:1680340491423-335d0eeb-4d16-8″ include=”2366\,2365″][/vc_column][/vc_row]
URL:https://nekibazaar.org/event/food-distribution-drive-29/
CATEGORIES:Food Drive
ATTACH;FMTTYPE=image/png:https://nekibazaar.org/wp-content/uploads/2022/09/Lets-give-a-helping-hand-to-the-Needy-people-e1680258268106.png
ORGANIZER;CN="Pakistan Chapter - M. Talal":MAILTO:contact@nekibazaar.org
END:VEVENT
BEGIN:VEVENT
DTSTART;TZID=UTC:20220514T080000
DTEND;TZID=UTC:20220514T170000
DTSTAMP:20260421T181906
CREATED:20220514T192953Z
LAST-MODIFIED:20230727T083213Z
UID:2253-1652515200-1652547600@nekibazaar.org
SUMMARY:Food Distribution drive 28
DESCRIPTION:[vc_row][vc_column][vc_media_grid element_width=”6″ grid_id=”vc_gid:1690446642353-0f3191f0-359e-7″ include=”2081\,2079\,2077″][/vc_column][/vc_row]
URL:https://nekibazaar.org/event/food-distribution-drive-28/
CATEGORIES:Food Drive
ATTACH;FMTTYPE=image/jpeg:https://nekibazaar.org/wp-content/uploads/2022/06/Image-from-iOS-1-scaled.jpg
ORGANIZER;CN="Pakistan Chapter - M. Talal":MAILTO:contact@nekibazaar.org
END:VEVENT
BEGIN:VEVENT
DTSTART;VALUE=DATE:20220514
DTEND;VALUE=DATE:20220515
DTSTAMP:20260421T181906
CREATED:20220617T094408Z
LAST-MODIFIED:20220617T094408Z
UID:2075-1652486400-1652572799@nekibazaar.org
SUMMARY:Food Distribution drive 24
DESCRIPTION:[vc_row][vc_column][vc_media_grid grid_id=”vc_gid:1655458916768-b26345c6-cfa7-5″ include=”2076\,2077\,2078\,2079\,2080\,2081″][/vc_column][/vc_row]
URL:https://nekibazaar.org/event/food-distribution-drive-24-2/
CATEGORIES:Food Drive
END:VEVENT
BEGIN:VEVENT
DTSTART;VALUE=DATE:20220417
DTEND;VALUE=DATE:20220418
DTSTAMP:20260421T181906
CREATED:20220417T192737Z
LAST-MODIFIED:20230727T083031Z
UID:2250-1650153600-1650239999@nekibazaar.org
SUMMARY:Food Distribution drive 27
DESCRIPTION:[vc_row][vc_column][vc_media_grid element_width=”6″ grid_id=”vc_gid:1680340193972-fa34055b-5bfb-9″ include=”2359\,2361″][/vc_column][/vc_row]
URL:https://nekibazaar.org/event/food-distribution-drive-27/
CATEGORIES:Food Drive
ATTACH;FMTTYPE=image/png:https://nekibazaar.org/wp-content/uploads/2022/09/Lets-give-a-helping-hand-to-the-Needy-people-e1680258268106.png
END:VEVENT
BEGIN:VEVENT
DTSTART;TZID=UTC:20220415T080000
DTEND;TZID=UTC:20220415T170000
DTSTAMP:20260421T181906
CREATED:20220415T192409Z
LAST-MODIFIED:20230727T082939Z
UID:2248-1650009600-1650042000@nekibazaar.org
SUMMARY:Food Distribution drive 26
DESCRIPTION:
URL:https://nekibazaar.org/event/food-distribution-drive-26/
CATEGORIES:Food Drive
ATTACH;FMTTYPE=image/png:https://nekibazaar.org/wp-content/uploads/2022/09/Lets-give-a-helping-hand-to-the-Needy-people-e1680258268106.png
ORGANIZER;CN="Pakistan Chapter - M. Talal":MAILTO:contact@nekibazaar.org
END:VEVENT
BEGIN:VEVENT
DTSTART;VALUE=DATE:20211115
DTEND;VALUE=DATE:20211116
DTSTAMP:20260421T181906
CREATED:20211115T091514Z
LAST-MODIFIED:20230725T161548Z
UID:2056-1636934400-1637020799@nekibazaar.org
SUMMARY:Easter Food Distribution drive 25
DESCRIPTION:
URL:https://nekibazaar.org/event/easter-food-distribution-drive-25/
CATEGORIES:Food Drive
ATTACH;FMTTYPE=image/jpeg:https://nekibazaar.org/wp-content/uploads/2022/04/WhatsApp-Image-2022-04-16-at-9.57.12-PM.jpeg
END:VEVENT
BEGIN:VEVENT
DTSTART;TZID=UTC:20211114T080000
DTEND;TZID=UTC:20211114T170000
DTSTAMP:20260421T181906
CREATED:20211115T064106Z
LAST-MODIFIED:20230725T161717Z
UID:2164-1636876800-1636909200@nekibazaar.org
SUMMARY:Ramzan Ration Distribution -25 Drive
DESCRIPTION:[vc_row][vc_column][vc_media_grid grid_id=”vc_gid:1655707208720-0e004881-a35a-2″ include=”2165\,2166\,2167″][/vc_column][/vc_row]
URL:https://nekibazaar.org/event/ramzan-ration-distribution-25-drive/
CATEGORIES:Food Drive
ORGANIZER;CN="Pakistan Chapter - M. Talal":MAILTO:contact@nekibazaar.org
END:VEVENT
END:VCALENDAR